BEGIN:VCALENDAR
VERSION:2.0
PRODID:-//Catch A Rising Star - ECPv6.15.20//NONSGML v1.0//EN
CALSCALE:GREGORIAN
METHOD:PUBLISH
X-WR-CALNAME:Catch A Rising Star
X-ORIGINAL-URL:https://catcharisingstar.dev.chd.lol
X-WR-CALDESC:Events for Catch A Rising Star
REFRESH-INTERVAL;VALUE=DURATION:PT1H
X-Robots-Tag:noindex
X-PUBLISHED-TTL:PT1H
BEGIN:VTIMEZONE
TZID:America/New_York
BEGIN:DAYLIGHT
TZOFFSETFROM:-0500
TZOFFSETTO:-0400
TZNAME:EDT
DTSTART:20250309T070000
END:DAYLIGHT
BEGIN:STANDARD
TZOFFSETFROM:-0400
TZOFFSETTO:-0500
TZNAME:EST
DTSTART:20251102T060000
END:STANDARD
BEGIN:DAYLIGHT
TZOFFSETFROM:-0500
TZOFFSETTO:-0400
TZNAME:EDT
DTSTART:20260308T070000
END:DAYLIGHT
BEGIN:STANDARD
TZOFFSETFROM:-0400
TZOFFSETTO:-0500
TZNAME:EST
DTSTART:20261101T060000
END:STANDARD
BEGIN:DAYLIGHT
TZOFFSETFROM:-0500
TZOFFSETTO:-0400
TZNAME:EDT
DTSTART:20270314T070000
END:DAYLIGHT
BEGIN:STANDARD
TZOFFSETFROM:-0400
TZOFFSETTO:-0500
TZNAME:EST
DTSTART:20271107T060000
END:STANDARD
END:VTIMEZONE
BEGIN:VEVENT
DTSTART;TZID=America/New_York:20260424T193000
DTEND;TZID=America/New_York:20260424T210000
DTSTAMP:20260420T124110
CREATED:20260402T202252Z
LAST-MODIFIED:20260402T202310Z
UID:4383-1777059000-1777064400@catcharisingstar.dev.chd.lol
SUMMARY:J. J. Ramirez
DESCRIPTION:J.J. Ramirez has appeared on The Tonight Show and Comedy Central’s Latin Kings of Comedy and has opened for Chris Rock and George Lopez. \nJ.J. has something to say\, and he’s right in your face\, making you laugh. He is one of New York’s very best headliners and is a regular at America’s best clubs\, including The World Famous Comic Strip and Caroline’s On Broadway. On television\, J.J. has appeared on A&E’s Comedy on the Road\, Evening at the Improv\, Showtime at the Apollo\, Fox’s Comic Strip Live\, and Comedy Central. \nJ.J. is also well-loved\, having appeared all over Atlantic City and Las Vegas. He is also featured in the award-winning movie The Latin Legends of Comedy.
URL:https://catcharisingstar.dev.chd.lol/event/j-j-ramirez/
LOCATION:Catch A Rising Star\, 102 Carnegie Center Dr\, Princeton\, NJ\, New Jersey\, 08540\, United States
ATTACH;FMTTYPE=image/jpeg:https://catcharisingstar.dev.chd.lol/wp-content/uploads/2026/04/JJ-Ramirez.jpg
ORGANIZER;CN="Jim Wright":MAILTO:catcharisingstar@gmail.com
END:VEVENT
BEGIN:VEVENT
DTSTART;TZID=America/New_York:20260425T200000
DTEND;TZID=America/New_York:20260425T213000
DTSTAMP:20260420T124110
CREATED:20260402T202409Z
LAST-MODIFIED:20260402T202409Z
UID:4386-1777147200-1777152600@catcharisingstar.dev.chd.lol
SUMMARY:J. J. Ramirez
DESCRIPTION:J.J. Ramirez has appeared on The Tonight Show and Comedy Central’s Latin Kings of Comedy and has opened for Chris Rock and George Lopez. \nJ.J. has something to say\, and he’s right in your face\, making you laugh. He is one of New York’s very best headliners and is a regular at America’s best clubs\, including The World Famous Comic Strip and Caroline’s On Broadway. On television\, J.J. has appeared on A&E’s Comedy on the Road\, Evening at the Improv\, Showtime at the Apollo\, Fox’s Comic Strip Live\, and Comedy Central. \nJ.J. is also well-loved\, having appeared all over Atlantic City and Las Vegas. He is also featured in the award-winning movie The Latin Legends of Comedy.
URL:https://catcharisingstar.dev.chd.lol/event/j-j-ramirez-2/
LOCATION:Catch A Rising Star\, 102 Carnegie Center Dr\, Princeton\, NJ\, New Jersey\, 08540\, United States
ATTACH;FMTTYPE=image/jpeg:https://catcharisingstar.dev.chd.lol/wp-content/uploads/2026/04/JJ-Ramirez.jpg
ORGANIZER;CN="Jim Wright":MAILTO:catcharisingstar@gmail.com
END:VEVENT
END:VCALENDAR